BEGIN:VCALENDAR
VERSION:2.0
PRODID:-//eventon.com NONSGML v1.0//EN
CALSCALE:GREGORIAN
METHOD:PUBLISH
BEGIN:VEVENT
UID:69e4f3ad16e0c
DTSTAMP:20260419T152429Z
DTSTART:20260625T170000Z
DTEND:20260627T215900Z
LOCATION:Esplanade du Prieuré Saint-Nicolas\,  La Chaume 3 Promenade Jean XXIII 85100 Les Sables-d'Olonne
SUMMARY:Les Sables-d'Olonne Vendée. 2ème édition du Festival des Sables du 25 au 27 juin 2026
DESCRIPTION:Les Sables-d&rsquo;Olonne Vendée. 2ème édition du Festival d
 es Sables du 25 au 27 juin 2026 https://www.lereportersablais.com/vendee-fe
 stival-des-sables-dolonne-apres-le-succes-de-2025-la-2eme-edition-est-progr
 ammee-du-25-au-27-juin-2026/\nhttps://www.lereportersablais.com/events/les-
 sables-dolonne-vendee-2eme-edition-du-festival-des-sables-du-25-au-27-juin-
 2026/
URL:https://www.lereportersablais.com/events/les-sables-dolonne-vendee-2eme-edition-du-festival-des-sables-du-25-au-27-juin-2026/
END:VEVENT
END:VCALENDAR