BEGIN:VCALENDAR
VERSION:2.0
PRODID:-//eventon.com NONSGML v1.0//EN
CALSCALE:GREGORIAN
METHOD:PUBLISH
BEGIN:VEVENT
UID:69e4f38956f91
DTSTAMP:20260419T152353Z
DTSTART:20260607
DTEND:20260608
LOCATION:ARENA Les Sables-d&#039;Olonne D160 Olonne sur Mer 85340 Les Sables-d'Olonne
SUMMARY:Les Sables-d'Olonne Vendée. COURSE AU LARGE : départ de la VENDÉE ARCTIQUE le 7 juin 2026
DESCRIPTION:Les Sables-d&rsquo;Olonne Vendée. COURSE AU LARGE : départ de
  la VENDÉE ARCTIQUE le 7 juin 2026\nhttps://www.lereportersablais.com/even
 ts/les-sables-dolonne-vendee-course-au-large-depart-de-la-vendee-arctique-l
 e-7-juin-2026/
URL:https://www.lereportersablais.com/events/les-sables-dolonne-vendee-course-au-large-depart-de-la-vendee-arctique-le-7-juin-2026/
END:VEVENT
END:VCALENDAR