BEGIN:VCALENDAR
VERSION:2.0
PRODID:-//eventon.com NONSGML v1.0//EN
CALSCALE:GREGORIAN
METHOD:PUBLISH
BEGIN:VEVENT
UID:69e4f3bc7a177
DTSTAMP:20260419T152444Z
DTSTART:20260911T180000Z
DTEND:20260911T215900Z
LOCATION:ARENA Les Sables-d&#039;Olonne D160 Olonne sur Mer 85340 Les Sables-d'Olonne
SUMMARY:Les Sables-d'Olonne Vendée ARENA. Calogero (COMPLET)
DESCRIPTION:Les Sables-d&rsquo;Olonne Vendée ARENA. Calogero // COMPLET AR
 ENA THÉÂTRE Les Sables d&rsquo;Olonne le vendredi 11 septembre 2026 à 20
 h Quinze ans après\,  Calogero retrouvera les théâtres dès septembre 20
 25 pour une tournée évènement de plus de 150 dates.   Après avoir sill
 onné les Zénith et Arena\,  il revient sur scène[..]\nhttps://www.lerepo
 rtersablais.com/events/les-sables-dolonne-vendee-arena-calogero-complet/
URL:https://www.lereportersablais.com/events/les-sables-dolonne-vendee-arena-calogero-complet/
END:VEVENT
END:VCALENDAR